BEGIN:VCALENDAR
VERSION:2.0
PRODID:-//rm//event//DE
METHOD:REQUEST
NAME:rm
X-WR-CALNAME:rm
BEGIN:VEVENT
UID:d675dabd-c131-4ef8-954b-4d308fd28fea
SEQUENCE:0
DTSTAMP:20260423T161226Z
DTSTART:20230321T000000Z
DTEND:20230321T000000Z
SUMMARY:Bank of America\, Global Industrials Conference
LOCATION:London\, United Kingdom
DESCRIPTION:
URL;VALUE=URI:https://www.rheinmetall.com/en/events/2023/ir/bank-of-americ
 a-global-industrials-conference
END:VEVENT
END:VCALENDAR