BEGIN:VCALENDAR
VERSION:2.0
PRODID:-//rm//event//DE
METHOD:REQUEST
NAME:rm
X-WR-CALNAME:rm
BEGIN:VEVENT
UID:75ff62e3-1407-4d46-92e1-6f7b1a0c7d72
SEQUENCE:0
DTSTAMP:20260423T222233Z
DTSTART:20230112T000000Z
DTEND:20230112T000000Z
SUMMARY:Baader Bank\, German Corporate Day
LOCATION:Toronto\, Canada
DESCRIPTION:
URL;VALUE=URI:https://www.rheinmetall.com/en/events/2023/ir/baader-bank-ge
 rman-corporate-day
END:VEVENT
END:VCALENDAR