BEGIN:VCALENDAR
VERSION:2.0
PRODID:-//rm//event//DE
METHOD:REQUEST
NAME:rm
X-WR-CALNAME:rm
BEGIN:VEVENT
UID:aa577a3a-776d-4a32-93bc-e0fd9e47a36b
SEQUENCE:0
DTSTAMP:20260425T041808Z
DTSTART:20230109T000000Z
DTEND:20230111T000000Z
SUMMARY:German Investment Seminar\, Commerzbank & Oddo BHF
LOCATION:New York\, USA
DESCRIPTION:
URL;VALUE=URI:https://www.rheinmetall.com/en/events/2023/ir/german-investm
 ent-seminar-commerzbank-oddo-bhf
END:VEVENT
END:VCALENDAR