BEGIN:VCALENDAR
VERSION:2.0
PRODID:-//rm//event//DE
METHOD:REQUEST
NAME:rm
X-WR-CALNAME:rm
BEGIN:VEVENT
UID:43dd1d4d-ed45-4d34-a42e-92f2679b3f1f
SEQUENCE:0
DTSTAMP:20260423T143740Z
DTSTART:20241125T000000Z
DTEND:20241126T000000Z
SUMMARY:Deutsches Eigenkapitalforum
LOCATION:Frankfurt\, Germany
DESCRIPTION:
URL;VALUE=URI:https://www.rheinmetall.com/en/events/2024/ir/deutsches-eige
 nkapitalforum
END:VEVENT
END:VCALENDAR