BEGIN:VCALENDAR
VERSION:2.0
PRODID:-//rm//event//DE
METHOD:REQUEST
NAME:rm
X-WR-CALNAME:rm
BEGIN:VEVENT
UID:df5b08eb-b889-4d48-bf00-dce080a946f7
SEQUENCE:0
DTSTAMP:20260423T175223Z
DTSTART:20241107T000000Z
DTEND:20241107T000000Z
SUMMARY:Q3/2024 report
DESCRIPTION:
URL;VALUE=URI:https://www.rheinmetall.com/en/events/2024/ir/q3-2024-report
END:VEVENT
END:VCALENDAR