BEGIN:VCALENDAR
VERSION:2.0
PRODID:-//rm//event//DE
METHOD:REQUEST
NAME:rm
X-WR-CALNAME:rm
BEGIN:VEVENT
UID:95a7ef59-37f3-471f-81e7-56419ed26e72
SEQUENCE:0
DTSTAMP:20260424T163145Z
DTSTART:20240926T000000Z
DTEND:20240926T000000Z
SUMMARY:Baader Bank AG\, Investment Conference
LOCATION:Munich\, Germany
DESCRIPTION:
URL;VALUE=URI:https://www.rheinmetall.com/en/events/2024/ir/baader-bank-ag
 -investment-conference
END:VEVENT
END:VCALENDAR