BEGIN:VCALENDAR
VERSION:2.0
PRODID:-//rm//event//DE
METHOD:REQUEST
NAME:rm
X-WR-CALNAME:rm
BEGIN:VEVENT
UID:5710b8c5-c93d-4e83-becf-d0c399cbcaf4
SEQUENCE:0
DTSTAMP:20260425T033020Z
DTSTART:20240925T000000Z
DTEND:20240925T000000Z
SUMMARY:Berenberg and Goldman Sachs German Corporate Conference
LOCATION:Munich\, Germany
DESCRIPTION:
URL;VALUE=URI:https://www.rheinmetall.com/en/events/2024/ir/berenberg-and-
 goldman-sachs-german-corporate-conference
END:VEVENT
END:VCALENDAR