BEGIN:VCALENDAR
VERSION:2.0
PRODID:-//rm//event//DE
METHOD:REQUEST
NAME:rm
X-WR-CALNAME:rm
BEGIN:VEVENT
UID:83cb27ee-724f-43db-8508-0f4b920f9781
SEQUENCE:0
DTSTAMP:20260423T151715Z
DTSTART:20240904T000000Z
DTEND:20240904T000000Z
SUMMARY:Jefferies Industrials Conference
LOCATION:New York\, USA
DESCRIPTION:
URL;VALUE=URI:https://www.rheinmetall.com/en/events/2024/ir/jefferies-indu
 strials-conference
END:VEVENT
END:VCALENDAR