BEGIN:VCALENDAR
VERSION:2.0
PRODID:-//rm//event//DE
METHOD:REQUEST
NAME:rm
X-WR-CALNAME:rm
BEGIN:VEVENT
UID:753f6ed8-5277-4fed-81e1-f468fd9c8626
SEQUENCE:0
DTSTAMP:20260423T161851Z
DTSTART:20240904T000000Z
DTEND:20240904T000000Z
SUMMARY:Morgan Stanley\, Industrials Conference
LOCATION:London\, United Kingdom
DESCRIPTION:
URL;VALUE=URI:https://www.rheinmetall.com/en/events/2024/ir/morgan-stanley
 -industrials-conference
END:VEVENT
END:VCALENDAR