BEGIN:VCALENDAR
VERSION:2.0
PRODID:-//rm//event//DE
METHOD:REQUEST
NAME:rm
X-WR-CALNAME:rm
BEGIN:VEVENT
UID:c9e7408d-bc2d-4f1d-b6be-31e4ba8b8c5f
SEQUENCE:0
DTSTAMP:20260423T202710Z
DTSTART:20240902T000000Z
DTEND:20240902T000000Z
SUMMARY:Bank of America\, Industrials Back to School
LOCATION:Online
DESCRIPTION:
URL;VALUE=URI:https://www.rheinmetall.com/en/events/2024/ir/bank-of-americ
 a-industrials-back-to-school
END:VEVENT
END:VCALENDAR