BEGIN:VCALENDAR
VERSION:2.0
PRODID:-//rm//event//DE
METHOD:REQUEST
NAME:rm
X-WR-CALNAME:rm
BEGIN:VEVENT
UID:e31262f3-3189-4d5a-aad6-d2478e455d27
SEQUENCE:0
DTSTAMP:20260423T163431Z
DTSTART:20240828T000000Z
DTEND:20240828T000000Z
SUMMARY:DZ Bank Champions Forum West
LOCATION:Duesseldorf\, Germany
DESCRIPTION:
URL;VALUE=URI:https://www.rheinmetall.com/en/events/2024/ir/dz-bank-champi
 ons-forum-west
END:VEVENT
END:VCALENDAR