BEGIN:VCALENDAR
VERSION:2.0
PRODID:-//rm//event//DE
METHOD:REQUEST
NAME:rm
X-WR-CALNAME:rm
BEGIN:VEVENT
UID:ebf125f4-5ead-4bbf-b919-0b8ea57b519e
SEQUENCE:0
DTSTAMP:20260423T180028Z
DTSTART:20240711T000000Z
DTEND:20240711T000000Z
SUMMARY:Q2 2024 Analyst & Investor Recap
DESCRIPTION:
URL;VALUE=URI:https://www.rheinmetall.com/en/events/2024/ir/q2-2024-analys
 t-investor-recap
END:VEVENT
END:VCALENDAR