BEGIN:VCALENDAR
VERSION:2.0
PRODID:-//rm//event//DE
METHOD:REQUEST
NAME:rm
X-WR-CALNAME:rm
BEGIN:VEVENT
UID:fe84639f-1cf8-4ddc-a642-2ab44debaab4
SEQUENCE:0
DTSTAMP:20260425T033220Z
DTSTART:20240624T000000Z
DTEND:20240624T000000Z
SUMMARY:Baader Bank AG\, Aerospace & Defense Day
LOCATION:Unterschleißheim\, Germany
DESCRIPTION:
URL;VALUE=URI:https://www.rheinmetall.com/en/events/2024/ir/baader-bank-ag
 -aerospace-defense-day
END:VEVENT
END:VCALENDAR