BEGIN:VCALENDAR
VERSION:2.0
PRODID:-//rm//event//DE
METHOD:REQUEST
NAME:rm
X-WR-CALNAME:rm
BEGIN:VEVENT
UID:1c93c2b8-453c-4716-aa5a-6d4038b62c78
SEQUENCE:0
DTSTAMP:20260424T002043Z
DTSTART:20240604T000000Z
DTEND:20240604T000000Z
SUMMARY:BNP Paribas Exane\, 26th CEO Conference
LOCATION:Paris\, France
DESCRIPTION:
URL;VALUE=URI:https://www.rheinmetall.com/en/events/2024/ir/bnp-paribas-ex
 ane-26th-ceo-conference
END:VEVENT
END:VCALENDAR