BEGIN:VCALENDAR
VERSION:2.0
PRODID:-//rm//event//DE
METHOD:REQUEST
NAME:rm
X-WR-CALNAME:rm
BEGIN:VEVENT
UID:98b21ab9-179e-469c-b70c-9ce943079cc9
SEQUENCE:0
DTSTAMP:20260424T020536Z
DTSTART:20240529T000000Z
DTEND:20240529T000000Z
SUMMARY:The Nice Conference\, Société Générale
LOCATION:Nice\, France
DESCRIPTION:
URL;VALUE=URI:https://www.rheinmetall.com/en/events/2024/ir/the-nice-confe
 rence-societe-generale
END:VEVENT
END:VCALENDAR