BEGIN:VCALENDAR
VERSION:2.0
PRODID:-//rm//event//DE
METHOD:REQUEST
NAME:rm
X-WR-CALNAME:rm
BEGIN:VEVENT
UID:baec6dab-803e-465c-8fe9-436ac5d0ce38
SEQUENCE:0
DTSTAMP:20260424T043024Z
DTSTART:20240522T000000Z
DTEND:20240522T000000Z
SUMMARY:J.P. Morgen\, EMEA All Stars Forum
LOCATION:Boston\, USA
DESCRIPTION:
URL;VALUE=URI:https://www.rheinmetall.com/en/events/2024/ir/j-p-morgen-eme
 a-all-stars-forum
END:VEVENT
END:VCALENDAR