BEGIN:VCALENDAR
VERSION:2.0
PRODID:-//rm//event//DE
METHOD:REQUEST
NAME:rm
X-WR-CALNAME:rm
BEGIN:VEVENT
UID:6dc95dff-8b5c-4b3f-ab30-807904a00c60
SEQUENCE:0
DTSTAMP:20260424T002210Z
DTSTART:20240515T000000Z
DTEND:20240515T000000Z
SUMMARY:Stifel\, German Corporate Conference
LOCATION:Frankfurt\, Germany
DESCRIPTION:
URL;VALUE=URI:https://www.rheinmetall.com/en/events/2024/ir/stifel-german-
 corporate-conference
END:VEVENT
END:VCALENDAR