BEGIN:VCALENDAR
VERSION:2.0
PRODID:-//rm//event//DE
METHOD:REQUEST
NAME:rm
X-WR-CALNAME:rm
BEGIN:VEVENT
UID:06a50561-4682-4b97-a7a7-b68e6fcf748c
SEQUENCE:0
DTSTAMP:20260423T123335Z
DTSTART:20240514T000000Z
DTEND:20240514T000000Z
SUMMARY:Annual Stockholder's Meeting Rheinmetall AG
LOCATION:Online
DESCRIPTION:
URL;VALUE=URI:https://www.rheinmetall.com/en/events/2024/ir/annual-stockho
 lder-s-meeting-rheinmetall-ag
END:VEVENT
END:VCALENDAR