BEGIN:VCALENDAR
VERSION:2.0
PRODID:-//rm//event//DE
METHOD:REQUEST
NAME:rm
X-WR-CALNAME:rm
BEGIN:VEVENT
UID:0714ef04-ff0e-4f3c-9a31-04a28abe699c
SEQUENCE:0
DTSTAMP:20260423T192042Z
DTSTART:20240319T000000Z
DTEND:20240319T000000Z
SUMMARY:Bank of America\, Global Industrials Conference
LOCATION:London\, United Kingdom
DESCRIPTION:
URL;VALUE=URI:https://www.rheinmetall.com/en/events/2024/ir/bank-of-americ
 a-global-industrials-conference
END:VEVENT
END:VCALENDAR