BEGIN:VCALENDAR
VERSION:2.0
PRODID:-//rm//event//DE
METHOD:REQUEST
NAME:rm
X-WR-CALNAME:rm
BEGIN:VEVENT
UID:001df8b2-433d-4755-ab2d-df9a9fd2501c
SEQUENCE:0
DTSTAMP:20260425T133946Z
DTSTART:20240314T000000Z
DTEND:20240314T000000Z
SUMMARY:Publication of annual report 2023 - Analysts' conference
DESCRIPTION:
URL;VALUE=URI:https://www.rheinmetall.com/en/events/2024/ir/publication-of
 -annual-report-2023-analysts-conference
END:VEVENT
END:VCALENDAR