BEGIN:VCALENDAR
VERSION:2.0
PRODID:-//rm//event//DE
METHOD:REQUEST
NAME:rm
X-WR-CALNAME:rm
BEGIN:VEVENT
UID:7a4d9da1-c080-4ece-8c08-265f6f747bf0
SEQUENCE:0
DTSTAMP:20260425T033111Z
DTSTART:20240111T000000Z
DTEND:20240112T000000Z
SUMMARY:Oddo BHF Forum
LOCATION:Lyon\, France
DESCRIPTION:
URL;VALUE=URI:https://www.rheinmetall.com/en/events/2024/ir/oddo-bhf-forum
END:VEVENT
END:VCALENDAR