BEGIN:VCALENDAR
VERSION:2.0
PRODID:-//rm//event//DE
METHOD:REQUEST
NAME:rm
X-WR-CALNAME:rm
BEGIN:VEVENT
UID:38f535f8-6f67-4f7c-b3ce-9957eb6ce769
SEQUENCE:0
DTSTAMP:20260424T002216Z
DTSTART:20240111T000000Z
DTEND:20240111T000000Z
SUMMARY:Baader Bank\, German Corporate Day
LOCATION:Toronto\, Canada
DESCRIPTION:
URL;VALUE=URI:https://www.rheinmetall.com/en/events/2024/ir/baader-bank-ge
 rman-corporate-day
END:VEVENT
END:VCALENDAR