BEGIN:VCALENDAR
VERSION:2.0
PRODID:-//rm//event//DE
METHOD:REQUEST
NAME:rm
X-WR-CALNAME:rm
BEGIN:VEVENT
UID:7564347f-3995-4732-95ea-7fb779cb802c
SEQUENCE:0
DTSTAMP:20260423T123232Z
DTSTART:20250506T220000Z
DTEND:20250508T220000Z
SUMMARY:Power2Drive
LOCATION:München\, Deutschland
DESCRIPTION:Weitere Informationen
URL;VALUE=URI:https://www.rheinmetall.com/de/events/2025/power2drive
END:VEVENT
END:VCALENDAR