BEGIN:VCALENDAR
VERSION:2.0
PRODID:-//rm//event//DE
METHOD:REQUEST
NAME:rm
X-WR-CALNAME:rm
BEGIN:VEVENT
UID:861b28e7-6bdc-41d5-8589-42a88fb55a67
SEQUENCE:0
DTSTAMP:20260423T174526Z
DTSTART:20250505T220000Z
DTEND:20250507T220000Z
SUMMARY:PCIM Europe
LOCATION:Nürnberg\, Deutschland
DESCRIPTION:Weitere Informationen
URL;VALUE=URI:https://www.rheinmetall.com/de/events/2025/pcim-europe
END:VEVENT
END:VCALENDAR