BEGIN:VCALENDAR
VERSION:2.0
PRODID:-//rm//event//DE
METHOD:REQUEST
NAME:rm
X-WR-CALNAME:rm
BEGIN:VEVENT
UID:0193e15b-57ee-4f07-a620-9d8696525286
SEQUENCE:0
DTSTAMP:20260424T202131Z
DTSTART:20250310T230000Z
DTEND:20250311T230000Z
SUMMARY:CWD  - Center for Wind Power Drive Konferenz
LOCATION:Aachen\, Germany
DESCRIPTION:Further information
URL;VALUE=URI:https://www.rheinmetall.com/en/events/2025/cwd
END:VEVENT
END:VCALENDAR