BEGIN:VCALENDAR
VERSION:2.0
PRODID:-//rm//event//DE
METHOD:REQUEST
NAME:rm
X-WR-CALNAME:rm
BEGIN:VEVENT
UID:5ba13ca8-dd35-454f-beb7-cf06d1ad6118
SEQUENCE:0
DTSTAMP:20260423T122954Z
DTSTART:20250515T070000Z
DTEND:20250515T070000Z
SUMMARY:Jobmesse Baunatal
LOCATION:\, Marktplatz 14\, 34225 Baunatal\, de
DESCRIPTION:/ Die Job-Messe dient nur interessierten Soldatinnen und Solda
 ten zum Informationsgewinn über Karrieremöglichkeiten nach Dienstzeitend
 e\, Stellenangebote und Ausbildung- und Umschulungsplätze in Untern
URL;VALUE=URI:https://www.rheinmetall.com/de/events/2025/jobmesse-baunatal
END:VEVENT
END:VCALENDAR