BEGIN:VCALENDAR
VERSION:2.0
PRODID:-//rm//event//DE
METHOD:REQUEST
NAME:rm
X-WR-CALNAME:rm
BEGIN:VEVENT
UID:f41baee8-f7a1-433f-acbd-5637f2117e8c
SEQUENCE:0
DTSTAMP:20260423T161817Z
DTSTART:20250925T080000Z
DTEND:20250925T080000Z
SUMMARY:Job-/Bildungsmesse Hannover
LOCATION:\, Ada-Lessing Straße 120\, 30657 Hannover\, de
DESCRIPTION:/ Die Job-Messe dient den interessierten Soldatinnen und Solda
 ten zum Informationsgewinn über Karrieremöglichkeiten nach Dienstzeitend
 e\, Stellenangebote und Ausbildung- und Umschulungsplätze in Untern
URL;VALUE=URI:https://www.rheinmetall.com/de/events/2025/job-bildungsmesse
 -hannover
END:VEVENT
END:VCALENDAR