BEGIN:VCALENDAR
VERSION:2.0
PRODID:-//rm//event//DE
METHOD:REQUEST
NAME:rm
X-WR-CALNAME:rm
BEGIN:VEVENT
UID:0fba081a-d5ee-4484-a3ee-64e401c1e80c
SEQUENCE:0
DTSTAMP:20260423T175142Z
DTSTART:20250515T070000Z
DTEND:20250515T070000Z
SUMMARY:Job Fair\, Baunatal
LOCATION:\, Marktplatz 14\, 34225 Baunatal\, de
DESCRIPTION:The job fair is designed to help interested military personnel
  gain information about career opportunities after the end of their servic
 e\, job offers and training and retraining places in companies.  
URL;VALUE=URI:https://www.rheinmetall.com/en/events/2025/job-fair-baunatal
END:VEVENT
END:VCALENDAR