BEGIN:VCALENDAR
VERSION:2.0
PRODID:-//rm//event//DE
METHOD:REQUEST
NAME:rm
X-WR-CALNAME:rm
BEGIN:VEVENT
UID:8594011a-790e-40d2-a386-fe90316893f1
SEQUENCE:0
DTSTAMP:20260423T163437Z
DTSTART:20250925T080000Z
DTEND:20250925T080000Z
SUMMARY:Job/Education Fair\, Hannover
LOCATION:\, Ada-Lessing Straße 120\, 30657 Hannover\, de
DESCRIPTION:/ The job fair is designed to help interested military personn
 el gain information about career opportunities after the end of their serv
 ice\, job offers and training and retraining places in companies.
URL;VALUE=URI:https://www.rheinmetall.com/en/events/2025/job-education-fai
 r-hannover
END:VEVENT
END:VCALENDAR