BEGIN:VCALENDAR
VERSION:2.0
PRODID:-//rm//event//DE
METHOD:REQUEST
NAME:rm
X-WR-CALNAME:rm
BEGIN:VEVENT
UID:503e706c-8872-499b-a51f-a02f2e13fd9f
SEQUENCE:0
DTSTAMP:20260423T174526Z
DTSTART:20250514T000000Z
DTEND:20250514T000000Z
SUMMARY:Campusmesse
LOCATION:Heinrich Heine Universität Düsseldorf
DESCRIPTION:Weitere Informationen
URL;VALUE=URI:https://www.rheinmetall.com/de/events/2025/campusmesse
END:VEVENT
END:VCALENDAR