BEGIN:VCALENDAR
VERSION:2.0
PRODID:-//rm//event//DE
METHOD:REQUEST
NAME:rm
X-WR-CALNAME:rm
BEGIN:VEVENT
UID:509e0f93-dd41-4c2a-91ad-602d1ea7dcf8
SEQUENCE:0
DTSTAMP:20260424T025927Z
DTSTART:20250403T000000Z
DTEND:20250404T000000Z
SUMMARY:Femworx
LOCATION:Hannover
DESCRIPTION:Weitere Informationen
URL;VALUE=URI:https://www.rheinmetall.com/de/events/2025/femworx
END:VEVENT
END:VCALENDAR