BEGIN:VCALENDAR
VERSION:2.0
PRODID:-//rm//event//DE
METHOD:REQUEST
NAME:rm
X-WR-CALNAME:rm
BEGIN:VEVENT
UID:f7a6337d-8007-421c-87a8-59abc43d0506
SEQUENCE:0
DTSTAMP:20260423T161819Z
DTSTART:20250411T000000Z
DTEND:20250412T000000Z
SUMMARY:Aero Career Days
LOCATION:Friedrichshafen
DESCRIPTION:Weitere Informationen
URL;VALUE=URI:https://www.rheinmetall.com/de/events/2025/aero-career-days
END:VEVENT
END:VCALENDAR