BEGIN:VCALENDAR
VERSION:2.0
PRODID:-//rm//event//DE
METHOD:REQUEST
NAME:rm
X-WR-CALNAME:rm
BEGIN:VEVENT
UID:cef6be28-1351-4d50-acb9-013b940ab669
SEQUENCE:0
DTSTAMP:20260423T202615Z
DTSTART:20250125T000000Z
DTEND:20250126T000000Z
SUMMARY:13. Jobmesse
LOCATION:Hamburg
DESCRIPTION:Further Information
URL;VALUE=URI:https://www.rheinmetall.com/en/events/2025/13-jobmesse-hambu
 rg
END:VEVENT
END:VCALENDAR