BEGIN:VCALENDAR
VERSION:2.0
PRODID:-//rm//event//DE
METHOD:REQUEST
NAME:rm
X-WR-CALNAME:rm
BEGIN:VEVENT
UID:a0fdc0f6-19a1-4e86-be73-cd34fb6769b0
SEQUENCE:0
DTSTAMP:20260423T123333Z
DTSTART:20251009T000000Z
DTEND:20251010T000000Z
SUMMARY:herCAREER Expo
LOCATION:München
DESCRIPTION:Further Information
URL;VALUE=URI:https://www.rheinmetall.com/en/events/2025/hercareer-expo
END:VEVENT
END:VCALENDAR