BEGIN:VCALENDAR
VERSION:2.0
PRODID:-//rm//event//DE
METHOD:REQUEST
NAME:rm
X-WR-CALNAME:rm
BEGIN:VEVENT
UID:33bf2c46-aa3b-4e81-ad74-634d194436f4
SEQUENCE:0
DTSTAMP:20260423T192028Z
DTSTART:20250127T080000Z
DTEND:20250127T080000Z
SUMMARY:Jobmesse Gotha
LOCATION:\, Ohrdrufer Str. 93\, 99867 Gotha\, DE
DESCRIPTION:/ Die Job-Messe dient den interessierten Soldatinnen und Solda
 ten zum Informationsgewinn über Karrieremöglichkeiten nach Dienstzeitend
 e\, Stellenangebote und Ausbildung- und Umschulungsplätze in Untern
URL;VALUE=URI:https://www.rheinmetall.com/de/events/2025/jobmesse-gotha
END:VEVENT
END:VCALENDAR