BEGIN:VCALENDAR
VERSION:2.0
PRODID:-//rm//event//DE
METHOD:REQUEST
NAME:rm
X-WR-CALNAME:rm
BEGIN:VEVENT
UID:7ec2de70-2d97-4540-a13b-092f94d916ff
SEQUENCE:0
DTSTAMP:20260423T142608Z
DTSTART:20250127T080000Z
DTEND:20250127T080000Z
SUMMARY:Job Fair Gotha
LOCATION:\, Ohrdrufer Str. 93\, 99867 Gotha\, DE
DESCRIPTION:The job fair is designed to help interested military personnel
  gain information about career opportunities after the end of their servic
 e\, job offers and training and retraining places in companies.  
URL;VALUE=URI:https://www.rheinmetall.com/en/events/2025/job-fair-gotha
END:VEVENT
END:VCALENDAR