BEGIN:VCALENDAR
VERSION:2.0
PRODID:-//rm//event//DE
METHOD:REQUEST
NAME:rm
X-WR-CALNAME:rm
BEGIN:VEVENT
UID:9d2bf5f6-61fe-4516-a5c2-b09aab57cbe1
SEQUENCE:0
DTSTAMP:20260423T211008Z
DTSTART:20250520T220000Z
DTEND:20250520T220000Z
SUMMARY:26. bonding Firmenkontaktmesse
LOCATION:Erlangen-Nürnberg
DESCRIPTION:Further Information
URL;VALUE=URI:https://www.rheinmetall.com/en/events/2025/26-bonding-firmen
 kontaktmesse
END:VEVENT
END:VCALENDAR