BEGIN:VCALENDAR
VERSION:2.0
PRODID:-//rm//event//DE
METHOD:REQUEST
NAME:rm
X-WR-CALNAME:rm
BEGIN:VEVENT
UID:2686ece0-5e0a-446c-91af-6b26531e848d
SEQUENCE:0
DTSTAMP:20260423T151221Z
DTSTART:20250516T000000Z
DTEND:20250516T000000Z
SUMMARY:VDI Young Engineers
LOCATION:Duesseldorf
DESCRIPTION:
URL;VALUE=URI:https://www.rheinmetall.com/en/events/2025/vdi-young-enginee
 rs
END:VEVENT
END:VCALENDAR