BEGIN:VCALENDAR
VERSION:2.0
PRODID:-//rm//event//DE
METHOD:REQUEST
NAME:rm
X-WR-CALNAME:rm
BEGIN:VEVENT
UID:6a95a59b-d927-4d33-a532-0b7c6378dcce
SEQUENCE:0
DTSTAMP:20260423T174619Z
DTSTART:20250819T220000Z
DTEND:20250823T220000Z
SUMMARY:Gamescom
LOCATION:Koelnmesse\, Köln
DESCRIPTION:
URL;VALUE=URI:https://www.rheinmetall.com/de/events/2025/gamescom
END:VEVENT
END:VCALENDAR