BEGIN:VCALENDAR
VERSION:2.0
PRODID:-//rm//event//DE
METHOD:REQUEST
NAME:rm
X-WR-CALNAME:rm
BEGIN:VEVENT
UID:7baf697e-1bb3-41e1-90e2-9e74b351cf9d
SEQUENCE:0
DTSTAMP:20260423T174527Z
DTSTART:20250623T220000Z
DTEND:20250623T220000Z
SUMMARY:IKOM
LOCATION:München
DESCRIPTION:Weitere Informationen
URL;VALUE=URI:https://www.rheinmetall.com/de/events/2025/ikom
END:VEVENT
END:VCALENDAR