BEGIN:VCALENDAR
VERSION:2.0
PRODID:-//rm//event//DE
METHOD:REQUEST
NAME:rm
X-WR-CALNAME:rm
BEGIN:VEVENT
UID:e06ee610-23ca-420a-8843-289ff99e4d76
SEQUENCE:0
DTSTAMP:20260423T161850Z
DTSTART:20250506T000000Z
DTEND:20250506T000000Z
SUMMARY:ITS.Connect
LOCATION:Ruhr Universität Bochum
DESCRIPTION:Further Information
URL;VALUE=URI:https://www.rheinmetall.com/en/events/2025/its-connect
END:VEVENT
END:VCALENDAR