BEGIN:VCALENDAR
VERSION:2.0
PRODID:-//rm//event//DE
METHOD:REQUEST
NAME:rm
X-WR-CALNAME:rm
BEGIN:VEVENT
UID:c8ac1fbf-2a5b-48de-bc27-e90b97e7c896
SEQUENCE:0
DTSTAMP:20260423T122859Z
DTSTART:20250515T000000Z
DTEND:20250515T000000Z
SUMMARY:Dean’s List Speeddating
LOCATION:RWTH Aachen
DESCRIPTION:
URL;VALUE=URI:https://www.rheinmetall.com/de/events/2025/dean-s-list-speed
 dating
END:VEVENT
END:VCALENDAR