BEGIN:VCALENDAR
VERSION:2.0
PRODID:-//rm//event//DE
METHOD:REQUEST
NAME:rm
X-WR-CALNAME:rm
BEGIN:VEVENT
UID:57d75964-d4d5-45a9-a3f4-76de81db7846
SEQUENCE:0
DTSTAMP:20260423T161850Z
DTSTART:20250522T000000Z
DTEND:20250522T000000Z
SUMMARY:Talent Transfer
LOCATION:CAU Kiel
DESCRIPTION:Further Information
URL;VALUE=URI:https://www.rheinmetall.com/en/events/2025/talent-transfer
END:VEVENT
END:VCALENDAR