BEGIN:VCALENDAR
VERSION:2.0
PRODID:-//rm//event//DE
METHOD:REQUEST
NAME:rm
X-WR-CALNAME:rm
BEGIN:VEVENT
UID:5261e71d-d74f-40e2-b861-d728c723058b
SEQUENCE:0
DTSTAMP:20260423T180028Z
DTSTART:20250520T080000Z
DTEND:20250523T220000Z
SUMMARY:19th Online Military Recruitment Fair "Soldata"
LOCATION:Online
DESCRIPTION:The Soldata Online Fair provides interested soldiers with a pl
 atform to learn about diverse career opportunities after their service per
 iod. Take advantage of this opportunity to discover job vacancie
URL;VALUE=URI:https://www.rheinmetall.com/en/events/2025/soldata-online-jo
 b-fair
END:VEVENT
END:VCALENDAR