BEGIN:VCALENDAR
VERSION:2.0
PRODID:-//rm//event//DE
METHOD:REQUEST
NAME:rm
X-WR-CALNAME:rm
BEGIN:VEVENT
UID:e37a9264-949e-4ff6-b429-546711f72a5f
SEQUENCE:0
DTSTAMP:20260423T174523Z
DTSTART:20251006T220000Z
DTEND:20251008T220000Z
SUMMARY:InCabin
LOCATION:Barcelona\, Spanien
DESCRIPTION:Weitere Informationen
URL;VALUE=URI:https://www.rheinmetall.com/de/events/2025/incabin
END:VEVENT
END:VCALENDAR