BEGIN:VCALENDAR
VERSION:2.0
PRODID:-//rm//event//DE
METHOD:REQUEST
NAME:rm
X-WR-CALNAME:rm
BEGIN:VEVENT
UID:8250dbf1-00eb-4c26-81d1-c07cefa3589a
SEQUENCE:0
DTSTAMP:20260423T160937Z
DTSTART:20250930T080000Z
DTEND:20250930T080000Z
SUMMARY:Jobmesse Augustdorf
LOCATION:GFM-Kaserne GHG\, Lopshorner-Allee 221\, 32832 Augustdorf\, de
DESCRIPTION:/ Die Job-Messe dient den interessierten Soldatinnen und Solda
 ten zum Informationsgewinn über Karrieremöglichkeiten nach Dienstzeitend
 e\, Stellenangebote und Ausbildung- und Umschulungsplätze in Untern
URL;VALUE=URI:https://www.rheinmetall.com/de/events/2025/jobmesse-augustdo
 rf
END:VEVENT
END:VCALENDAR