BEGIN:VCALENDAR
VERSION:2.0
PRODID:-//rm//event//DE
METHOD:REQUEST
NAME:rm
X-WR-CALNAME:rm
BEGIN:VEVENT
UID:4fac2dd0-7223-437e-8e0d-53c8a9e32dd5
SEQUENCE:0
DTSTAMP:20260423T150236Z
DTSTART:20250328T000000Z
DTEND:20250329T000000Z
SUMMARY:Techniek Carrièrebeurs
LOCATION:Amsterdam
DESCRIPTION:Weitere Informationen
URL;VALUE=URI:https://www.rheinmetall.com/de/events/2025/techniek-carriere
 beurs
END:VEVENT
END:VCALENDAR