BEGIN:VCALENDAR
VERSION:2.0
PRODID:-//rm//event//DE
METHOD:REQUEST
NAME:rm
X-WR-CALNAME:rm
BEGIN:VEVENT
UID:5178b0e1-6b06-43c6-930a-9d7cd3b4be69
SEQUENCE:0
DTSTAMP:20260423T202438Z
DTSTART:20250604T220000Z
DTEND:20250604T220000Z
SUMMARY:Karrieretag 
LOCATION:Hochschule Merseburg
DESCRIPTION:Weitere Informationen
URL;VALUE=URI:https://www.rheinmetall.com/de/events/2025/karrieretag-hochs
 chule-merseburg
END:VEVENT
END:VCALENDAR