BEGIN:VCALENDAR
VERSION:2.0
PRODID:-//rm//event//DE
METHOD:REQUEST
NAME:rm
X-WR-CALNAME:rm
BEGIN:VEVENT
UID:9a69d092-35fa-444c-a576-e5ad08f6a1b1
SEQUENCE:0
DTSTAMP:20260423T162425Z
DTSTART:20250623T220000Z
DTEND:20250623T220000Z
SUMMARY:Karrieretag
LOCATION:Rheinmetall Electronics GmbH
DESCRIPTION:
URL;VALUE=URI:https://www.rheinmetall.com/de/events/2025/karrieretag-bei-d
 er-rheinmetall-electronics-gmbh
END:VEVENT
END:VCALENDAR