BEGIN:VCALENDAR
VERSION:2.0
PRODID:-//rm//event//DE
METHOD:REQUEST
NAME:rm
X-WR-CALNAME:rm
BEGIN:VEVENT
UID:6dcc8899-4957-46f1-9ce1-0dfa471b8aa1
SEQUENCE:0
DTSTAMP:20260423T180027Z
DTSTART:20250623T220000Z
DTEND:20250623T220000Z
SUMMARY:Career Day
LOCATION:Rheinmetall Electronics GmbH
DESCRIPTION:
URL;VALUE=URI:https://www.rheinmetall.com/en/events/2025/career-day-at-rhe
 inmetall-electronics-gmbh
END:VEVENT
END:VCALENDAR